BEGIN:VCALENDAR
VERSION:2.0
METHOD:PUBLISH
BEGIN:VEVENT
DTSTART:20180816T153000Z
DTEND:20180818T220000Z
LOCATION:Mesa, AZ 85209
TRANSP: OPAQUE
SEQUENCE:0
UID:
DTSTAMP:20260420T061044Z
SUMMARY:20%- 50% OFF Epic Estate Sale 
DESCRIPTION:20%- 50% OFF Epic Estate Sale  Blue Barn Estate Sales 
UID:1776687044
STREET-ADDRESS:See website
POSTAL-CODE:85209
LOCALITY:Mesa
REGION:ABBREV=AZ
COUNTRY:ABBREV=US;ABBREV=USA:United States
URL;TYPE=Event Listing:https://estatesales.org/estate-sales/az/mesa/85209/20-50-off-epic-estate-1550853
PRIORITY:1
CLASS:PUBLIC
SEQUENCE:0
STATUS:CONFIRMED
TRANSP:OPAQUE
END:VEVENT
END:VCALENDAR
