BEGIN:VCALENDAR
VERSION:2.0
METHOD:PUBLISH
BEGIN:VEVENT
DTSTART:20150816T160000Z
DTEND:20150816T060000Z
LOCATION:Carson City, NV 89701
TRANSP: OPAQUE
SEQUENCE:0
UID:
DTSTAMP:20260425T194245Z
SUMMARY:Estate Auction Sunday, August 16, 2015 In-House
DESCRIPTION:Estate Auction Sunday, August 16, 2015 In-House Carson City Auction Company 
UID:1777167765
STREET-ADDRESS:See website
POSTAL-CODE:89701
LOCALITY:Carson City
REGION:ABBREV=NV
COUNTRY:ABBREV=US;ABBREV=USA:United States
URL;TYPE=Event Listing:https://estatesales.org/estate-sales/nv/carson-city/89701/estate-auction-sunday-august-16-647193
PRIORITY:1
CLASS:PUBLIC
SEQUENCE:0
STATUS:CONFIRMED
TRANSP:OPAQUE
END:VEVENT
END:VCALENDAR
