BEGIN:VCALENDAR
VERSION:2.0
METHOD:PUBLISH
BEGIN:VEVENT
DTSTART:20150816T140000Z
DTEND:20150816T200000Z
LOCATION:Poughkeepsie, NY 12603
TRANSP: OPAQUE
SEQUENCE:0
UID:
DTSTAMP:20260424T071814Z
SUMMARY:Rose Says "Prices Are Slashed" in Poughkeepsie
DESCRIPTION:Rose Says "Prices Are Slashed" in Poughkeepsie Stephanie's Storage Sale 
UID:1777036694
STREET-ADDRESS:See website
POSTAL-CODE:12603
LOCALITY:Poughkeepsie
REGION:ABBREV=NY
COUNTRY:ABBREV=US;ABBREV=USA:United States
URL;TYPE=Event Listing:https://estatesales.org/estate-sales/ny/poughkeepsie/12603/rose-says-prices-are-slashed-644959
PRIORITY:1
CLASS:PUBLIC
SEQUENCE:0
STATUS:CONFIRMED
TRANSP:OPAQUE
END:VEVENT
END:VCALENDAR
