BEGIN:VCALENDAR
VERSION:2.0
METHOD:PUBLISH
BEGIN:VEVENT
DTSTART:20140816T130000Z
DTEND:20140816T180000Z
LOCATION:Wakefield, RI 02879
TRANSP: OPAQUE
SEQUENCE:0
UID:
DTSTAMP:20260421T134742Z
SUMMARY:Small Wakefield Estate Sale! Saturday August 16th
DESCRIPTION:Small Wakefield Estate Sale! Saturday August 16th Jarred's Homegoods / Treasure Brokers 
UID:1776800862
STREET-ADDRESS:See website
POSTAL-CODE:02879
LOCALITY:Wakefield
REGION:ABBREV=RI
COUNTRY:ABBREV=US;ABBREV=USA:United States
URL;TYPE=Event Listing:https://estatesales.org/estate-sales/ri/wakefield/02879/small-wakefield-estate-sale-saturday-439956
PRIORITY:1
CLASS:PUBLIC
SEQUENCE:0
STATUS:CONFIRMED
TRANSP:OPAQUE
END:VEVENT
END:VCALENDAR
