BEGIN:VCALENDAR
VERSION:2.0
METHOD:PUBLISH
BEGIN:VEVENT
DTSTART:20250815T150000Z
DTEND:20250816T200000Z
LOCATION:West Bend, WI 53095
TRANSP: OPAQUE
SEQUENCE:0
UID:
DTSTAMP:20260425T162652Z
SUMMARY:50% Off SATURDAY!! West Bend Estate Sale Tools, Garden, Electrical, Books
DESCRIPTION:50% Off SATURDAY!! West Bend Estate Sale Tools, Garden, Electrical, Books Best Estate Services Inc. 
UID:1777156012
STREET-ADDRESS:See website
POSTAL-CODE:53095
LOCALITY:West Bend
REGION:ABBREV=WI
COUNTRY:ABBREV=US;ABBREV=USA:United States
URL;TYPE=Event Listing:https://estatesales.org/estate-sales/wi/west-bend/53095/west-bend-estate-sale-tools-2395071
PRIORITY:1
CLASS:PUBLIC
SEQUENCE:0
STATUS:CONFIRMED
TRANSP:OPAQUE
END:VEVENT
END:VCALENDAR
