BEGIN:VCALENDAR
VERSION:2.0
METHOD:PUBLISH
BEGIN:VEVENT
DTSTART:20250815T140000Z
DTEND:20250817T190000Z
LOCATION:Kaukauna, WI 54130
TRANSP: OPAQUE
SEQUENCE:0
UID:
DTSTAMP:20260424T213712Z
SUMMARY:KAUKAUNA, MULTI-HOUSEHOLD CONSOLIDATION SALE, BY THE " Estate Sale Squad" -FRI 08/15- 9AM-5PM,SAT 08/16- 9AM-4PM,SUN 8/17-9AM-bargains are gone.
DESCRIPTION:KAUKAUNA, MULTI-HOUSEHOLD CONSOLIDATION SALE, BY THE " Estate Sale Squad" -FRI 08/15- 9AM-5PM,SAT 08/16- 9AM-4PM,SUN 8/17-9AM-bargains are gone. Estate Sale Squad LLC 
UID:1777088232
STREET-ADDRESS:See website
POSTAL-CODE:54130
LOCALITY:Kaukauna
REGION:ABBREV=WI
COUNTRY:ABBREV=US;ABBREV=USA:United States
URL;TYPE=Event Listing:https://estatesales.org/estate-sales/wi/kaukauna/54130/kaukauna-multihousehold-consolidation-sale-by-2395747
PRIORITY:1
CLASS:PUBLIC
SEQUENCE:0
STATUS:CONFIRMED
TRANSP:OPAQUE
END:VEVENT
END:VCALENDAR
