BEGIN:VCALENDAR
VERSION:2.0
METHOD:PUBLISH
BEGIN:VEVENT
DTSTART:20250815T150000Z
DTEND:20250817T200000Z
LOCATION:Fountain Hills, AZ 85268
TRANSP: OPAQUE
SEQUENCE:0
UID:
DTSTAMP:20260425T094605Z
SUMMARY:Fountain Hills Estate Sale. *****(50% OFF ON SUNDAY)*****
DESCRIPTION:Fountain Hills Estate Sale. *****(50% OFF ON SUNDAY)***** Fresh Start Estate Sales LLC 
UID:1777131965
STREET-ADDRESS:See website
POSTAL-CODE:85268
LOCALITY:Fountain Hills
REGION:ABBREV=AZ
COUNTRY:ABBREV=US;ABBREV=USA:United States
URL;TYPE=Event Listing:https://estatesales.org/estate-sales/az/fountain-hills/85268/fountain-hills-estate-sale-2393870
PRIORITY:1
CLASS:PUBLIC
SEQUENCE:0
STATUS:CONFIRMED
TRANSP:OPAQUE
END:VEVENT
END:VCALENDAR
