BEGIN:VCALENDAR
VERSION:2.0
METHOD:PUBLISH
BEGIN:VEVENT
DTSTART:20240815T213000Z
DTEND:20240817T183000Z
LOCATION:Troy, AL 36081
TRANSP: OPAQUE
SEQUENCE:0
UID:
DTSTAMP:20260423T140230Z
SUMMARY:Troy Double Estate Sale Weekend - Sale 2 by Dothan Estate Sales
DESCRIPTION:Troy Double Estate Sale Weekend - Sale 2 by Dothan Estate Sales Dothan Estate Sales 
UID:1776974550
STREET-ADDRESS:See website
POSTAL-CODE:36081
LOCALITY:Troy
REGION:ABBREV=AL
COUNTRY:ABBREV=US;ABBREV=USA:United States
URL;TYPE=Event Listing:https://estatesales.org/estate-sales/al/troy/36081/troy-double-estate-sale-weekend-2328294
PRIORITY:1
CLASS:PUBLIC
SEQUENCE:0
STATUS:CONFIRMED
TRANSP:OPAQUE
END:VEVENT
END:VCALENDAR
