BEGIN:VCALENDAR
VERSION:2.0
METHOD:PUBLISH
BEGIN:VEVENT
DTSTART:20230815T130000Z
DTEND:20230817T200000Z
LOCATION:Beacon, NY 12508
TRANSP: OPAQUE
SEQUENCE:0
UID:
DTSTAMP:20260420T102625Z
SUMMARY:Christmas in August, Books & CD's! TAG Sale!
DESCRIPTION:Christmas in August, Books & CD's! TAG Sale! Hudson Valley Auctioneers 
UID:1776702385
STREET-ADDRESS:See website
POSTAL-CODE:12508
LOCALITY:Beacon
REGION:ABBREV=NY
COUNTRY:ABBREV=US;ABBREV=USA:United States
URL;TYPE=Event Listing:https://estatesales.org/estate-sales/ny/beacon/12508/christmas-in-august-books-cds-2217497
PRIORITY:1
CLASS:PUBLIC
SEQUENCE:0
STATUS:CONFIRMED
TRANSP:OPAQUE
END:VEVENT
END:VCALENDAR
