BEGIN:VCALENDAR
VERSION:2.0
METHOD:PUBLISH
BEGIN:VEVENT
DTSTART:20140815T130000Z
DTEND:20140816T200000Z
LOCATION:Clearwater, FL 33755
TRANSP: OPAQUE
SEQUENCE:0
UID:
DTSTAMP:20260423T130955Z
SUMMARY:***Fully Packed House!!*** Find it all!
DESCRIPTION:***Fully Packed House!!*** Find it all! Timeless Heritage Estate Jewelry and Sales 
UID:1776971395
STREET-ADDRESS:See website
POSTAL-CODE:33755
LOCALITY:Clearwater
REGION:ABBREV=FL
COUNTRY:ABBREV=US;ABBREV=USA:United States
URL;TYPE=Event Listing:https://estatesales.org/estate-sales/fl/clearwater/33755/fully-packed-house-find-it-439658
PRIORITY:1
CLASS:PUBLIC
SEQUENCE:0
STATUS:CONFIRMED
TRANSP:OPAQUE
END:VEVENT
END:VCALENDAR
