BEGIN:VCALENDAR
VERSION:2.0
METHOD:PUBLISH
BEGIN:VEVENT
DTSTART:20250814T140000Z
DTEND:20250816T200000Z
LOCATION:Alpharetta, GA 30005
TRANSP: OPAQUE
SEQUENCE:0
UID:
DTSTAMP:20260424T104958Z
SUMMARY:75% OFF SATURDAY-Come Find Your PERFECT PIECE at This Stunning Home in Alpharetta!
DESCRIPTION:75% OFF SATURDAY-Come Find Your PERFECT PIECE at This Stunning Home in Alpharetta! The Perfect Piece Estate Liquidators, Inc 
UID:1777049398
STREET-ADDRESS:See website
POSTAL-CODE:30005
LOCALITY:Alpharetta
REGION:ABBREV=GA
COUNTRY:ABBREV=US;ABBREV=USA:United States
URL;TYPE=Event Listing:https://estatesales.org/estate-sales/ga/alpharetta/30005/50-off-saturdaycome-find-your-2390590
PRIORITY:1
CLASS:PUBLIC
SEQUENCE:0
STATUS:CONFIRMED
TRANSP:OPAQUE
END:VEVENT
END:VCALENDAR
