BEGIN:VCALENDAR
VERSION:2.0
METHOD:PUBLISH
BEGIN:VEVENT
DTSTART:20250814T163000Z
DTEND:20250817T210000Z
LOCATION:Atherton, CA 94027
TRANSP: OPAQUE
SEQUENCE:0
UID:
DTSTAMP:20260419T054019Z
SUMMARY:Estate Sale in Atherton Ca, by Horizons LLC
DESCRIPTION:Estate Sale in Atherton Ca, by Horizons LLC Horizons Estate Sales LLC 
UID:1776598819
STREET-ADDRESS:See website
POSTAL-CODE:94027
LOCALITY:Atherton
REGION:ABBREV=CA
COUNTRY:ABBREV=US;ABBREV=USA:United States
URL;TYPE=Event Listing:https://estatesales.org/estate-sales/ca/atherton/94027/estate-sale-in-atherton-ca-2395445
PRIORITY:1
CLASS:PUBLIC
SEQUENCE:0
STATUS:CONFIRMED
TRANSP:OPAQUE
END:VEVENT
END:VCALENDAR
