BEGIN:VCALENDAR
VERSION:2.0
METHOD:PUBLISH
BEGIN:VEVENT
DTSTART:20210813T150000Z
DTEND:20210814T200000Z
LOCATION:Battle Ground, WA 98604
TRANSP: OPAQUE
SEQUENCE:0
UID:
DTSTAMP:20260425T145709Z
SUMMARY:Adorable Battle Ground Estate Featuring AWD Saturn View
DESCRIPTION:Adorable Battle Ground Estate Featuring AWD Saturn View North by Northwest Estate Sales, Services, and Auctions LLC 
UID:1777150629
STREET-ADDRESS:See website
POSTAL-CODE:98604
LOCALITY:Battle Ground
REGION:ABBREV=WA
COUNTRY:ABBREV=US;ABBREV=USA:United States
URL;TYPE=Event Listing:https://estatesales.org/estate-sales/wa/battle-ground/98604/adorable-battle-ground-estate-featuring-1942571
PRIORITY:1
CLASS:PUBLIC
SEQUENCE:0
STATUS:CONFIRMED
TRANSP:OPAQUE
END:VEVENT
END:VCALENDAR
