BEGIN:VCALENDAR
VERSION:2.0
METHOD:PUBLISH
BEGIN:VEVENT
DTSTART:20230812T160000Z
DTEND:20230813T200000Z
LOCATION:Union City, CA 94587
TRANSP: OPAQUE
SEQUENCE:0
UID:
DTSTAMP:20260422T143832Z
SUMMARY:50% Off Union City Estate Sale
DESCRIPTION:50% Off Union City Estate Sale East Bay Estate Liquidations 
UID:1776890312
STREET-ADDRESS:See website
POSTAL-CODE:94587
LOCALITY:Union City
REGION:ABBREV=CA
COUNTRY:ABBREV=US;ABBREV=USA:United States
URL;TYPE=Event Listing:https://estatesales.org/estate-sales/ca/union-city/94587/50-off-union-city-estate-2217875
PRIORITY:1
CLASS:PUBLIC
SEQUENCE:0
STATUS:CONFIRMED
TRANSP:OPAQUE
END:VEVENT
END:VCALENDAR
