BEGIN:VCALENDAR
VERSION:2.0
METHOD:PUBLISH
BEGIN:VEVENT
DTSTART:20220812T130000Z
DTEND:20220814T210000Z
LOCATION:Bogart, GA 30622
TRANSP: OPAQUE
SEQUENCE:0
UID:
DTSTAMP:20260421T133958Z
SUMMARY:50% OFF SATURDAY AND SUNDAY!! GUNS, GOLD, HUGE SALE IN BOGART! 
DESCRIPTION:50% OFF SATURDAY AND SUNDAY!! GUNS, GOLD, HUGE SALE IN BOGART!  Athena Estate Sales 
UID:1776800398
STREET-ADDRESS:See website
POSTAL-CODE:30622
LOCALITY:Bogart
REGION:ABBREV=GA
COUNTRY:ABBREV=US;ABBREV=USA:United States
URL;TYPE=Event Listing:https://estatesales.org/estate-sales/ga/bogart/30622/50-off-saturday-and-sunday-2074411
PRIORITY:1
CLASS:PUBLIC
SEQUENCE:0
STATUS:CONFIRMED
TRANSP:OPAQUE
END:VEVENT
END:VCALENDAR
