BEGIN:VCALENDAR
VERSION:2.0
METHOD:PUBLISH
BEGIN:VEVENT
DTSTART:20160812T160000Z
DTEND:20160813T220000Z
LOCATION:El Dorado Hills, CA 95762
TRANSP: OPAQUE
SEQUENCE:0
UID:
DTSTAMP:20260421T115605Z
SUMMARY:New Life Presents Eclectic  Modern Estate Sale
DESCRIPTION:New Life Presents Eclectic  Modern Estate Sale Calder Estate Sales and Liquidators 
UID:1776794165
STREET-ADDRESS:See website
POSTAL-CODE:95762
LOCALITY:El Dorado Hills
REGION:ABBREV=CA
COUNTRY:ABBREV=US;ABBREV=USA:United States
URL;TYPE=Event Listing:https://estatesales.org/estate-sales/ca/el-dorado-hills/95762/new-life-presents-eclectic-modern-937433
PRIORITY:1
CLASS:PUBLIC
SEQUENCE:0
STATUS:CONFIRMED
TRANSP:OPAQUE
END:VEVENT
END:VCALENDAR
