BEGIN:VCALENDAR
VERSION:2.0
METHOD:PUBLISH
BEGIN:VEVENT
DTSTART:20220811T140000Z
DTEND:20220813T210000Z
LOCATION:Simsbury, CT 06070
TRANSP: OPAQUE
SEQUENCE:0
UID:
DTSTAMP:20260420T154731Z
SUMMARY:Incredible Estate Sale in CT!!!!
DESCRIPTION:Incredible Estate Sale in CT!!!!
UID:1776721651
STREET-ADDRESS:See website
POSTAL-CODE:06070
LOCALITY:Simsbury
REGION:ABBREV=CT
COUNTRY:ABBREV=US;ABBREV=USA:United States
URL;TYPE=Event Listing:https://estatesales.org/estate-sales/ct/simsbury/06070/incredible-estate-sale-in-ct-2079933
PRIORITY:1
CLASS:PUBLIC
SEQUENCE:0
STATUS:CONFIRMED
TRANSP:OPAQUE
END:VEVENT
END:VCALENDAR
