BEGIN:VCALENDAR
VERSION:2.0
METHOD:PUBLISH
BEGIN:VEVENT
DTSTART:20180811T140000Z
DTEND:20180812T220000Z
LOCATION:Williams Bay, WI 53191
TRANSP: OPAQUE
SEQUENCE:0
UID:
DTSTAMP:20260424T191348Z
SUMMARY:Stop by for Treasures at this Cedar Point Home in Lovely Williams Bay during Corn & Brat Weekend
DESCRIPTION:Stop by for Treasures at this Cedar Point Home in Lovely Williams Bay during Corn & Brat Weekend
UID:1777079628
STREET-ADDRESS:See website
POSTAL-CODE:53191
LOCALITY:Williams Bay
REGION:ABBREV=WI
COUNTRY:ABBREV=US;ABBREV=USA:United States
URL;TYPE=Event Listing:https://estatesales.org/estate-sales/wi/williams-bay/53191/stop-by-for-treasures-at-1552391
PRIORITY:1
CLASS:PUBLIC
SEQUENCE:0
STATUS:CONFIRMED
TRANSP:OPAQUE
END:VEVENT
END:VCALENDAR
