BEGIN:VCALENDAR
VERSION:2.0
METHOD:PUBLISH
BEGIN:VEVENT
DTSTART:20180811T160000Z
DTEND:20180812T220000Z
LOCATION:Berkeley, CA 94704
TRANSP: OPAQUE
SEQUENCE:0
UID:
DTSTAMP:20260420T063523Z
SUMMARY:2nd round SAT and SUN only sale in Berkeley ““ By YTT Estate Sales
DESCRIPTION:2nd round SAT and SUN only sale in Berkeley ““ By YTT Estate Sales Yesterday Today and Tomorrow Estate Sales and Liquidation, LLC 
UID:1776688523
STREET-ADDRESS:See website
POSTAL-CODE:94704
LOCALITY:Berkeley
REGION:ABBREV=CA
COUNTRY:ABBREV=US;ABBREV=USA:United States
URL;TYPE=Event Listing:https://estatesales.org/estate-sales/ca/berkeley/94704/2nd-round-sat-and-sun-1553421
PRIORITY:1
CLASS:PUBLIC
SEQUENCE:0
STATUS:CONFIRMED
TRANSP:OPAQUE
END:VEVENT
END:VCALENDAR
