BEGIN:VCALENDAR
VERSION:2.0
METHOD:PUBLISH
BEGIN:VEVENT
DTSTART:20170811T140000Z
DTEND:20170812T190000Z
LOCATION:Saint Paul, MN 55115
TRANSP: OPAQUE
SEQUENCE:0
UID:
DTSTAMP:20260419T201431Z
SUMMARY:Magnificent Mahtomedi Estate Sale by Caring Transitions Twin Cities East ““ Fri., 8/11 and Sat., 8/12!
DESCRIPTION:Magnificent Mahtomedi Estate Sale by Caring Transitions Twin Cities East ““ Fri., 8/11 and Sat., 8/12! Caring Transitions Twin Cities East 
UID:1776651271
STREET-ADDRESS:See website
POSTAL-CODE:55115
LOCALITY:Saint Paul
REGION:ABBREV=MN
COUNTRY:ABBREV=US;ABBREV=USA:United States
URL;TYPE=Event Listing:https://estatesales.org/estate-sales/mn/saint-paul/55115/magnificent-mahtomedi-estate-sale-by-1334103
PRIORITY:1
CLASS:PUBLIC
SEQUENCE:0
STATUS:CONFIRMED
TRANSP:OPAQUE
END:VEVENT
END:VCALENDAR
