BEGIN:VCALENDAR
VERSION:2.0
METHOD:PUBLISH
BEGIN:VEVENT
DTSTART:20180810T150000Z
DTEND:20180812T210000Z
LOCATION:Galveston, TX 77551
TRANSP: OPAQUE
SEQUENCE:0
UID:
DTSTAMP:20260421T040807Z
SUMMARY:Doors open at 10:00am 50% OFF - CASH ONLY SALE 
DESCRIPTION:Doors open at 10:00am 50% OFF - CASH ONLY SALE  AEP Estate Liquidation 
UID:1776766087
STREET-ADDRESS:See website
POSTAL-CODE:77551
LOCALITY:Galveston
REGION:ABBREV=TX
COUNTRY:ABBREV=US;ABBREV=USA:United States
URL;TYPE=Event Listing:https://estatesales.org/estate-sales/tx/galveston/77551/doors-open-at-1000am-50-1551293
PRIORITY:1
CLASS:PUBLIC
SEQUENCE:0
STATUS:CONFIRMED
TRANSP:OPAQUE
END:VEVENT
END:VCALENDAR
