BEGIN:VCALENDAR
VERSION:2.0
METHOD:PUBLISH
BEGIN:VEVENT
DTSTART:20250809T140000Z
DTEND:20250810T180000Z
LOCATION:Wenonah, NJ 08090
TRANSP: OPAQUE
SEQUENCE:0
UID:
DTSTAMP:20260425T162417Z
SUMMARY:B&B Estate Sales Is Hosting A Sale In Wenonah, NJ
DESCRIPTION:B&B Estate Sales Is Hosting A Sale In Wenonah, NJ B&B Estate Sales 
UID:1777155857
STREET-ADDRESS:See website
POSTAL-CODE:08090
LOCALITY:Wenonah
REGION:ABBREV=NJ
COUNTRY:ABBREV=US;ABBREV=USA:United States
URL;TYPE=Event Listing:https://estatesales.org/estate-sales/nj/wenonah/08090/bb-estate-sales-is-hosting-2387214
PRIORITY:1
CLASS:PUBLIC
SEQUENCE:0
STATUS:CONFIRMED
TRANSP:OPAQUE
END:VEVENT
END:VCALENDAR
