BEGIN:VCALENDAR
VERSION:2.0
METHOD:PUBLISH
BEGIN:VEVENT
DTSTART:20250809T130000Z
DTEND:20250809T133000Z
LOCATION:Greeneville, TN 37745
TRANSP: OPAQUE
SEQUENCE:0
UID:
DTSTAMP:20260420T002648Z
SUMMARY:222 KELLY LANE, GREENEVILLE, TN 37745
DESCRIPTION:222 KELLY LANE, GREENEVILLE, TN 37745 Powell Auction & Real Estate 
UID:1776666408
STREET-ADDRESS:See website
POSTAL-CODE:37745
LOCALITY:Greeneville
REGION:ABBREV=TN
COUNTRY:ABBREV=US;ABBREV=USA:United States
URL;TYPE=Event Listing:https://estatesales.org/estate-sales/tn/greeneville/37745/222-kelly-lane-greeneville-tn-2393621
PRIORITY:1
CLASS:PUBLIC
SEQUENCE:0
STATUS:CONFIRMED
TRANSP:OPAQUE
END:VEVENT
END:VCALENDAR
