BEGIN:VCALENDAR
VERSION:2.0
METHOD:PUBLISH
BEGIN:VEVENT
DTSTART:20240809T160000Z
DTEND:20240811T190000Z
LOCATION:Westminster, CO 80030
TRANSP: OPAQUE
SEQUENCE:0
UID:
DTSTAMP:20260420T005404Z
SUMMARY:FREE LOVE @ WESTMINSTER ESTATE SALE
DESCRIPTION:FREE LOVE @ WESTMINSTER ESTATE SALE American Estate Sales 
UID:1776668044
STREET-ADDRESS:See website
POSTAL-CODE:80030
LOCALITY:Westminster
REGION:ABBREV=CO
COUNTRY:ABBREV=US;ABBREV=USA:United States
URL;TYPE=Event Listing:https://estatesales.org/estate-sales/co/westminster/80030/free-love-westminster-estate-sale-2328806
PRIORITY:1
CLASS:PUBLIC
SEQUENCE:0
STATUS:CONFIRMED
TRANSP:OPAQUE
END:VEVENT
END:VCALENDAR
