BEGIN:VCALENDAR
VERSION:2.0
METHOD:PUBLISH
BEGIN:VEVENT
DTSTART:20190809T160000Z
DTEND:20190810T190000Z
LOCATION:Seal Beach, CA 90740
TRANSP: OPAQUE
SEQUENCE:0
UID:
DTSTAMP:20260421T112746Z
SUMMARY:Seal Beach Treasures
DESCRIPTION:Seal Beach Treasures Treasure Hunt Estate Services 
UID:1776792466
STREET-ADDRESS:See website
POSTAL-CODE:90740
LOCALITY:Seal Beach
REGION:ABBREV=CA
COUNTRY:ABBREV=US;ABBREV=USA:United States
URL;TYPE=Event Listing:https://estatesales.org/estate-sales/ca/seal-beach/90740/seal-beach-treasures-1685103
PRIORITY:1
CLASS:PUBLIC
SEQUENCE:0
STATUS:CONFIRMED
TRANSP:OPAQUE
END:VEVENT
END:VCALENDAR
