BEGIN:VCALENDAR
VERSION:2.0
METHOD:PUBLISH
BEGIN:VEVENT
DTSTART:20120809T110000Z
DTEND:20120811T180000Z
LOCATION:Garland, TX 75044
TRANSP: OPAQUE
SEQUENCE:0
UID:
DTSTAMP:20260425T122445Z
SUMMARY:"How Sharon Is Getting Her Groove Back" Moving Estate Sale - Stunning Antiques and Accoutrements!
DESCRIPTION:"How Sharon Is Getting Her Groove Back" Moving Estate Sale - Stunning Antiques and Accoutrements! Blue Moon Estates - Estate Sales, Events &amp; Services 
UID:1777141485
STREET-ADDRESS:See website
POSTAL-CODE:75044
LOCALITY:Garland
REGION:ABBREV=TX
COUNTRY:ABBREV=US;ABBREV=USA:United States
URL;TYPE=Event Listing:https://estatesales.org/estate-sales/tx/garland/75044/how-sharon-is-getting-her-191249
PRIORITY:1
CLASS:PUBLIC
SEQUENCE:0
STATUS:CONFIRMED
TRANSP:OPAQUE
END:VEVENT
END:VCALENDAR
