BEGIN:VCALENDAR
VERSION:2.0
METHOD:PUBLISH
BEGIN:VEVENT
DTSTART:20250808T130000Z
DTEND:20250809T160000Z
LOCATION:Babson Park, FL 33827
TRANSP: OPAQUE
SEQUENCE:0
UID:
DTSTAMP:20260421T084226Z
SUMMARY:ESTATE SALES OF CENTRAL FLORIDA
DESCRIPTION:ESTATE SALES OF CENTRAL FLORIDA ESTATE SALES OF CENTRAL FLORIDA 
UID:1776782546
STREET-ADDRESS:See website
POSTAL-CODE:33827
LOCALITY:Babson Park
REGION:ABBREV=FL
COUNTRY:ABBREV=US;ABBREV=USA:United States
URL;TYPE=Event Listing:https://estatesales.org/estate-sales/fl/babson-park/33827/estate-sales-of-central-florida-2366290
PRIORITY:1
CLASS:PUBLIC
SEQUENCE:0
STATUS:CONFIRMED
TRANSP:OPAQUE
END:VEVENT
END:VCALENDAR
