BEGIN:VCALENDAR
VERSION:2.0
METHOD:PUBLISH
BEGIN:VEVENT
DTSTART:20250808T140000Z
DTEND:20250809T200000Z
LOCATION:Kaukauna, WI 54130
TRANSP: OPAQUE
SEQUENCE:0
UID:
DTSTAMP:20260424T213718Z
SUMMARY:KAUKAUNA DOWNSIZING SALE BY THE " Estate Sale Squad" -FRI 08/08- 9AM-2PM, - SAT 08/0- 9AM-3PM
DESCRIPTION:KAUKAUNA DOWNSIZING SALE BY THE " Estate Sale Squad" -FRI 08/08- 9AM-2PM, - SAT 08/0- 9AM-3PM Estate Sale Squad LLC 
UID:1777088238
STREET-ADDRESS:See website
POSTAL-CODE:54130
LOCALITY:Kaukauna
REGION:ABBREV=WI
COUNTRY:ABBREV=US;ABBREV=USA:United States
URL;TYPE=Event Listing:https://estatesales.org/estate-sales/wi/kaukauna/54130/kaukauna-downsizing-sale-by-the-2394535
PRIORITY:1
CLASS:PUBLIC
SEQUENCE:0
STATUS:CONFIRMED
TRANSP:OPAQUE
END:VEVENT
END:VCALENDAR
