BEGIN:VCALENDAR
VERSION:2.0
METHOD:PUBLISH
BEGIN:VEVENT
DTSTART:20250808T160000Z
DTEND:20250809T200000Z
LOCATION:Fairfield, CA 94533
TRANSP: OPAQUE
SEQUENCE:0
UID:
DTSTAMP:20260423T062913Z
SUMMARY:Fabulous Fairfield Home Packed with Vintage Treasures! Fri. and Sat. ONLY!
DESCRIPTION:Fabulous Fairfield Home Packed with Vintage Treasures! Fri. and Sat. ONLY! J and C Estate Sales 
UID:1776947353
STREET-ADDRESS:See website
POSTAL-CODE:94533
LOCALITY:Fairfield
REGION:ABBREV=CA
COUNTRY:ABBREV=US;ABBREV=USA:United States
URL;TYPE=Event Listing:https://estatesales.org/estate-sales/ca/fairfield/94533/fabulous-fairfield-home-packed-with-2394221
PRIORITY:1
CLASS:PUBLIC
SEQUENCE:0
STATUS:CONFIRMED
TRANSP:OPAQUE
END:VEVENT
END:VCALENDAR
