BEGIN:VCALENDAR
VERSION:2.0
METHOD:PUBLISH
BEGIN:VEVENT
DTSTART:20250808T150000Z
DTEND:20250809T210000Z
LOCATION:Surprise, AZ 85388
TRANSP: OPAQUE
SEQUENCE:0
UID:
DTSTAMP:20260424T180638Z
SUMMARY:!!!25% OFF!!!***SPECIAL SALE IN SUPRISE***
DESCRIPTION:!!!25% OFF!!!***SPECIAL SALE IN SUPRISE*** Anderson Family Estate Sales & Services, LLC 
UID:1777075598
STREET-ADDRESS:See website
POSTAL-CODE:85388
LOCALITY:Surprise
REGION:ABBREV=AZ
COUNTRY:ABBREV=US;ABBREV=USA:United States
URL;TYPE=Event Listing:https://estatesales.org/estate-sales/az/surprise/85388/special-sale-in-suprise-2394159
PRIORITY:1
CLASS:PUBLIC
SEQUENCE:0
STATUS:CONFIRMED
TRANSP:OPAQUE
END:VEVENT
END:VCALENDAR
