BEGIN:VCALENDAR
VERSION:2.0
METHOD:PUBLISH
BEGIN:VEVENT
DTSTART:20250807T130000Z
DTEND:20250809T190000Z
LOCATION:Jacksonville, FL 32223
TRANSP: OPAQUE
SEQUENCE:0
UID:
DTSTAMP:20260423T121655Z
SUMMARY:Finders Keepers Estate Sales
DESCRIPTION:Finders Keepers Estate Sales Finders Keepers Estate Sales 
UID:1776968215
STREET-ADDRESS:See website
POSTAL-CODE:32223
LOCALITY:Jacksonville
REGION:ABBREV=FL
COUNTRY:ABBREV=US;ABBREV=USA:United States
URL;TYPE=Event Listing:https://estatesales.org/estate-sales/fl/jacksonville/32223/finders-keepers-estate-sales-2391083
PRIORITY:1
CLASS:PUBLIC
SEQUENCE:0
STATUS:CONFIRMED
TRANSP:OPAQUE
END:VEVENT
END:VCALENDAR
