BEGIN:VCALENDAR
VERSION:2.0
METHOD:PUBLISH
BEGIN:VEVENT
DTSTART:20250807T200000Z
DTEND:20250809T200000Z
LOCATION:Menasha, WI 54952
TRANSP: OPAQUE
SEQUENCE:0
UID:
DTSTAMP:20260424T073818Z
SUMMARY:Summertime Sell-down Super-Sale, 50% off shop-wide
DESCRIPTION:Summertime Sell-down Super-Sale, 50% off shop-wide Greater Fox Valley Estate Sales / Chip's Treasures LLC 
UID:1777037898
STREET-ADDRESS:See website
POSTAL-CODE:54952
LOCALITY:Menasha
REGION:ABBREV=WI
COUNTRY:ABBREV=US;ABBREV=USA:United States
URL;TYPE=Event Listing:https://estatesales.org/estate-sales/wi/menasha/54952/summertime-selldown-supersale-50-off-2394040
PRIORITY:1
CLASS:PUBLIC
SEQUENCE:0
STATUS:CONFIRMED
TRANSP:OPAQUE
END:VEVENT
END:VCALENDAR
