BEGIN:VCALENDAR
VERSION:2.0
METHOD:PUBLISH
BEGIN:VEVENT
DTSTART:20220807T140000Z
DTEND:20220807T180000Z
LOCATION:Somerdale, NJ 08083
TRANSP: OPAQUE
SEQUENCE:0
UID:
DTSTAMP:20260419T181856Z
SUMMARY:SUNDAY FUNDAY, 1 MORE DAY SOMERDALE
DESCRIPTION:SUNDAY FUNDAY, 1 MORE DAY SOMERDALE Saving Grace Estate Sales 
UID:1776644336
STREET-ADDRESS:See website
POSTAL-CODE:08083
LOCALITY:Somerdale
REGION:ABBREV=NJ
COUNTRY:ABBREV=US;ABBREV=USA:United States
URL;TYPE=Event Listing:https://estatesales.org/estate-sales/nj/somerdale/08083/sunday-funday-1-more-day-2080109
PRIORITY:1
CLASS:PUBLIC
SEQUENCE:0
STATUS:CONFIRMED
TRANSP:OPAQUE
END:VEVENT
END:VCALENDAR
