BEGIN:VCALENDAR
VERSION:2.0
METHOD:PUBLISH
BEGIN:VEVENT
DTSTART:20200807T160000Z
DTEND:20200809T210000Z
LOCATION:Austin, TX 78750
TRANSP: OPAQUE
SEQUENCE:0
UID:
DTSTAMP:20260424T121830Z
SUMMARY:SUNDAY 50% OFF EVERYTHING**excludes Fine Jewelry/Coins****Northwest Austin Woodland Village Estate Sale
DESCRIPTION:SUNDAY 50% OFF EVERYTHING**excludes Fine Jewelry/Coins****Northwest Austin Woodland Village Estate Sale Past 2 Present Estate Sale Service 
UID:1777054710
STREET-ADDRESS:See website
POSTAL-CODE:78750
LOCALITY:Austin
REGION:ABBREV=TX
COUNTRY:ABBREV=US;ABBREV=USA:United States
URL;TYPE=Event Listing:https://estatesales.org/estate-sales/tx/austin/78750/sunday-50-off-everythingexcludes-fine-1807315
PRIORITY:1
CLASS:PUBLIC
SEQUENCE:0
STATUS:CONFIRMED
TRANSP:OPAQUE
END:VEVENT
END:VCALENDAR
