BEGIN:VCALENDAR
VERSION:2.0
METHOD:PUBLISH
BEGIN:VEVENT
DTSTART:20180807T160000Z
DTEND:20180807T230000Z
LOCATION:Sacramento, CA 95831
TRANSP: OPAQUE
SEQUENCE:0
UID:
DTSTAMP:20260421T151903Z
SUMMARY:Briarcrest Way
DESCRIPTION:Briarcrest Way Estate Sales Help 
UID:1776806343
STREET-ADDRESS:See website
POSTAL-CODE:95831
LOCALITY:Sacramento
REGION:ABBREV=CA
COUNTRY:ABBREV=US;ABBREV=USA:United States
URL;TYPE=Event Listing:https://estatesales.org/estate-sales/ca/sacramento/95831/briarcrest-way-1553707
PRIORITY:1
CLASS:PUBLIC
SEQUENCE:0
STATUS:CONFIRMED
TRANSP:OPAQUE
END:VEVENT
END:VCALENDAR
