BEGIN:VCALENDAR
VERSION:2.0
METHOD:PUBLISH
BEGIN:VEVENT
DTSTART:20160807T140000Z
DTEND:20160807T170000Z
LOCATION:Niantic, CT 06357
TRANSP: OPAQUE
SEQUENCE:0
UID:
DTSTAMP:20260424T115733Z
SUMMARY:Real Estate Office Liquidation!!
DESCRIPTION:Real Estate Office Liquidation!! ACL Estate Services 
UID:1777053453
STREET-ADDRESS:See website
POSTAL-CODE:06357
LOCALITY:Niantic
REGION:ABBREV=CT
COUNTRY:ABBREV=US;ABBREV=USA:United States
URL;TYPE=Event Listing:https://estatesales.org/estate-sales/ct/niantic/06357/real-estate-office-liquidation-937545
PRIORITY:1
CLASS:PUBLIC
SEQUENCE:0
STATUS:CONFIRMED
TRANSP:OPAQUE
END:VEVENT
END:VCALENDAR
