BEGIN:VCALENDAR
VERSION:2.0
METHOD:PUBLISH
BEGIN:VEVENT
DTSTART:20150807T150000Z
DTEND:20150808T210000Z
LOCATION:Elm Grove, WI 53122
TRANSP: OPAQUE
SEQUENCE:0
UID:
DTSTAMP:20260420T030213Z
SUMMARY:Elm Grove Sale-Lladro,Hummels,Primitives,Toys, Crocks and even PO Boxes!!!!
DESCRIPTION:Elm Grove Sale-Lladro,Hummels,Primitives,Toys, Crocks and even PO Boxes!!!! All in the Family Estate Sales 
UID:1776675733
STREET-ADDRESS:See website
POSTAL-CODE:53122
LOCALITY:Elm Grove
REGION:ABBREV=WI
COUNTRY:ABBREV=US;ABBREV=USA:United States
URL;TYPE=Event Listing:https://estatesales.org/estate-sales/wi/elm-grove/53122/elm-grove-salelladrohummelsprimitivestoys-crocks-and-641051
PRIORITY:1
CLASS:PUBLIC
SEQUENCE:0
STATUS:CONFIRMED
TRANSP:OPAQUE
END:VEVENT
END:VCALENDAR
