BEGIN:VCALENDAR
VERSION:2.0
METHOD:PUBLISH
BEGIN:VEVENT
DTSTART:20240806T160000Z
DTEND:20240810T000000Z
LOCATION:By appointment only.
TRANSP: OPAQUE
SEQUENCE:0
UID:
DTSTAMP:20260420T023523Z
SUMMARY:Indonesian King Bed Room Set - By Appointment Only
DESCRIPTION:Indonesian King Bed Room Set - By Appointment Only Diamond Heirlooms Estate Sales & Consulting  LLC 
UID:1776674123
STREET-ADDRESS:See website
POSTAL-CODE:90732
LOCALITY:Los Angeles
REGION:ABBREV=CA
COUNTRY:ABBREV=US;ABBREV=USA:United States
URL;TYPE=Event Listing:https://estatesales.org/estate-sales/ca/los-angeles/90732/indonesian-king-bed-room-set-2331515
PRIORITY:1
CLASS:PUBLIC
SEQUENCE:0
STATUS:CONFIRMED
TRANSP:OPAQUE
END:VEVENT
END:VCALENDAR
