BEGIN:VCALENDAR
VERSION:2.0
METHOD:PUBLISH
BEGIN:VEVENT
DTSTART:20210806T140000Z
DTEND:20210807T200000Z
LOCATION:Billings, MT 59102
TRANSP: OPAQUE
SEQUENCE:0
UID:
DTSTAMP:20260421T082357Z
SUMMARY:Estate Sale by Caring Transitions
DESCRIPTION:Estate Sale by Caring Transitions Caring Transitions of Yellowstone Valley 
UID:1776781437
STREET-ADDRESS:See website
POSTAL-CODE:59102
LOCALITY:Billings
REGION:ABBREV=MT
COUNTRY:ABBREV=US;ABBREV=USA:United States
URL;TYPE=Event Listing:https://estatesales.org/estate-sales/mt/billings/59102/estate-sale-by-caring-transitions-1940105
PRIORITY:1
CLASS:PUBLIC
SEQUENCE:0
STATUS:CONFIRMED
TRANSP:OPAQUE
END:VEVENT
END:VCALENDAR
