BEGIN:VCALENDAR
VERSION:2.0
METHOD:PUBLISH
BEGIN:VEVENT
DTSTART:20210806T130000Z
DTEND:20210807T180000Z
LOCATION:Pittsburg, KS 66762
TRANSP: OPAQUE
SEQUENCE:0
UID:
DTSTAMP:20260419T122550Z
SUMMARY:Downsizing/Living Estate Tag Sale of Barbara Graham
DESCRIPTION:Downsizing/Living Estate Tag Sale of Barbara Graham New Beginnings Estate Sales of SW MO 
UID:1776623150
STREET-ADDRESS:See website
POSTAL-CODE:66762
LOCALITY:Pittsburg
REGION:ABBREV=KS
COUNTRY:ABBREV=US;ABBREV=USA:United States
URL;TYPE=Event Listing:https://estatesales.org/estate-sales/ks/pittsburg/66762/downsizingliving-estate-tag-sale-of-1939855
PRIORITY:1
CLASS:PUBLIC
SEQUENCE:0
STATUS:CONFIRMED
TRANSP:OPAQUE
END:VEVENT
END:VCALENDAR
