BEGIN:VCALENDAR
VERSION:2.0
METHOD:PUBLISH
BEGIN:VEVENT
DTSTART:20210806T222600Z
DTEND:20210821T180000Z
LOCATION:Bridgehampton, NY 11932
TRANSP: OPAQUE
SEQUENCE:0
UID:
DTSTAMP:20260423T110327Z
SUMMARY:Bridgehampton Brook Farm Moving Sale
DESCRIPTION:Bridgehampton Brook Farm Moving Sale Barton & Co 
UID:1776963807
STREET-ADDRESS:See website
POSTAL-CODE:11932
LOCALITY:Bridgehampton
REGION:ABBREV=NY
COUNTRY:ABBREV=US;ABBREV=USA:United States
URL;TYPE=Event Listing:https://estatesales.org/estate-sales/ny/bridgehampton/11932/bridgehampton-brook-farm-moving-sale-1941609
PRIORITY:1
CLASS:PUBLIC
SEQUENCE:0
STATUS:CONFIRMED
TRANSP:OPAQUE
END:VEVENT
END:VCALENDAR
