BEGIN:VCALENDAR
VERSION:2.0
METHOD:PUBLISH
BEGIN:VEVENT
DTSTART:20180806T150000Z
DTEND:20180806T190000Z
LOCATION:Miami, FL 33162
TRANSP: OPAQUE
SEQUENCE:0
UID:
DTSTAMP:20260420T132613Z
SUMMARY:RESTAURANT EQUIPMENT AUCTION - EQUIPMENT - SMALLWARES - MIXERS - OVENS - COOLERS - FREEZERS & MORE - AUCTION
DESCRIPTION:RESTAURANT EQUIPMENT AUCTION - EQUIPMENT - SMALLWARES - MIXERS - OVENS - COOLERS - FREEZERS & MORE - AUCTION Auctions 4 America 
UID:1776713173
STREET-ADDRESS:See website
POSTAL-CODE:33162
LOCALITY:Miami
REGION:ABBREV=FL
COUNTRY:ABBREV=US;ABBREV=USA:United States
URL;TYPE=Event Listing:https://estatesales.org/estate-sales/fl/miami/33162/restaurant-equipment-auction-equipment-smallwares-1551059
PRIORITY:1
CLASS:PUBLIC
SEQUENCE:0
STATUS:CONFIRMED
TRANSP:OPAQUE
END:VEVENT
END:VCALENDAR
