BEGIN:VCALENDAR
VERSION:2.0
METHOD:PUBLISH
BEGIN:VEVENT
DTSTART:20160806T140000Z
DTEND:20160806T040000Z
LOCATION:Festus, MO 63028
TRANSP: OPAQUE
SEQUENCE:0
UID:
DTSTAMP:20260419T200726Z
SUMMARY:60+ Years Watch & Clock Repair Parts, Tools, Supplies etc.
DESCRIPTION:60+ Years Watch & Clock Repair Parts, Tools, Supplies etc. Father Time Auctions and Real Estate 
UID:1776650846
STREET-ADDRESS:See website
POSTAL-CODE:63028
LOCALITY:Festus
REGION:ABBREV=MO
COUNTRY:ABBREV=US;ABBREV=USA:United States
URL;TYPE=Event Listing:https://estatesales.org/estate-sales/mo/festus/63028/60-years-watch-clock-repair-920771
PRIORITY:1
CLASS:PUBLIC
SEQUENCE:0
STATUS:CONFIRMED
TRANSP:OPAQUE
END:VEVENT
END:VCALENDAR
