BEGIN:VCALENDAR
VERSION:2.0
METHOD:PUBLISH
BEGIN:VEVENT
DTSTART:20160806T150000Z
DTEND:20160807T220000Z
LOCATION:Belfair, WA 98528
TRANSP: OPAQUE
SEQUENCE:0
UID:
DTSTAMP:20260424T133529Z
SUMMARY:Purdy/Belfair Estate Sale
DESCRIPTION:Purdy/Belfair Estate Sale P W Green Antiques & Estate Sales 
UID:1777059329
STREET-ADDRESS:See website
POSTAL-CODE:98528
LOCALITY:Belfair
REGION:ABBREV=WA
COUNTRY:ABBREV=US;ABBREV=USA:United States
URL;TYPE=Event Listing:https://estatesales.org/estate-sales/wa/belfair/98528/purdybelfair-estate-sale-904147
PRIORITY:1
CLASS:PUBLIC
SEQUENCE:0
STATUS:CONFIRMED
TRANSP:OPAQUE
END:VEVENT
END:VCALENDAR
