BEGIN:VCALENDAR
VERSION:2.0
METHOD:PUBLISH
BEGIN:VEVENT
DTSTART:20160805T150000Z
DTEND:20160807T210000Z
LOCATION:Leander, TX 78641
TRANSP: OPAQUE
SEQUENCE:0
UID:
DTSTAMP:20260424T121807Z
SUMMARY:Nameless Treasures in Leander
DESCRIPTION:Nameless Treasures in Leander Past 2 Present Estate Sale Service 
UID:1777054687
STREET-ADDRESS:See website
POSTAL-CODE:78641
LOCALITY:Leander
REGION:ABBREV=TX
COUNTRY:ABBREV=US;ABBREV=USA:United States
URL;TYPE=Event Listing:https://estatesales.org/estate-sales/tx/leander/78641/nameless-treasures-in-leander-912741
PRIORITY:1
CLASS:PUBLIC
SEQUENCE:0
STATUS:CONFIRMED
TRANSP:OPAQUE
END:VEVENT
END:VCALENDAR
