BEGIN:VCALENDAR
VERSION:2.0
METHOD:PUBLISH
BEGIN:VEVENT
DTSTART:20160805T130000Z
DTEND:20160806T200000Z
LOCATION:Saint Louis, MO 63139
TRANSP: OPAQUE
SEQUENCE:0
UID:
DTSTAMP:20260419T105834Z
SUMMARY:South St. Louis City Estate Sale by Pennies In Your Pocket
DESCRIPTION:South St. Louis City Estate Sale by Pennies In Your Pocket Pennies In Your Pocket Estate Sale and Appraisal Services 
UID:1776617914
STREET-ADDRESS:See website
POSTAL-CODE:63139
LOCALITY:Saint Louis
REGION:ABBREV=MO
COUNTRY:ABBREV=US;ABBREV=USA:United States
URL;TYPE=Event Listing:https://estatesales.org/estate-sales/mo/saint-louis/63139/south-st-louis-city-estate-936843
PRIORITY:1
CLASS:PUBLIC
SEQUENCE:0
STATUS:CONFIRMED
TRANSP:OPAQUE
END:VEVENT
END:VCALENDAR
