BEGIN:VCALENDAR
VERSION:2.0
METHOD:PUBLISH
BEGIN:VEVENT
DTSTART:20230804T140000Z
DTEND:20230805T190000Z
LOCATION:Trumbull, CT 06611
TRANSP: OPAQUE
SEQUENCE:0
UID:
DTSTAMP:20260424T115812Z
SUMMARY:Last Minute ~ Trumbull ~ High End Moving Sale
DESCRIPTION:Last Minute ~ Trumbull ~ High End Moving Sale A Golden Grasshopper Estate Sales 
UID:1777053492
STREET-ADDRESS:See website
POSTAL-CODE:06611
LOCALITY:Trumbull
REGION:ABBREV=CT
COUNTRY:ABBREV=US;ABBREV=USA:United States
URL;TYPE=Event Listing:https://estatesales.org/estate-sales/ct/trumbull/06611/last-minute-trumbull-high-end-2214691
PRIORITY:1
CLASS:PUBLIC
SEQUENCE:0
STATUS:CONFIRMED
TRANSP:OPAQUE
END:VEVENT
END:VCALENDAR
