BEGIN:VCALENDAR
VERSION:2.0
METHOD:PUBLISH
BEGIN:VEVENT
DTSTART:20230804T150000Z
DTEND:20230806T210000Z
LOCATION:Riverside, CA 92507
TRANSP: OPAQUE
SEQUENCE:0
UID:
DTSTAMP:20260419T223703Z
SUMMARY:Hidden Treasures in the Hills of Riverside!
DESCRIPTION:Hidden Treasures in the Hills of Riverside! Estate Sales by Dee 
UID:1776659823
STREET-ADDRESS:See website
POSTAL-CODE:92507
LOCALITY:Riverside
REGION:ABBREV=CA
COUNTRY:ABBREV=US;ABBREV=USA:United States
URL;TYPE=Event Listing:https://estatesales.org/estate-sales/ca/riverside/92507/hidden-treasures-in-the-hills-2214469
PRIORITY:1
CLASS:PUBLIC
SEQUENCE:0
STATUS:CONFIRMED
TRANSP:OPAQUE
END:VEVENT
END:VCALENDAR
