BEGIN:VCALENDAR
VERSION:2.0
METHOD:PUBLISH
BEGIN:VEVENT
DTSTART:20230804T120000Z
DTEND:20230805T160000Z
LOCATION:Indian Rocks Beach, FL 33785
TRANSP: OPAQUE
SEQUENCE:0
UID:
DTSTAMP:20260423T094748Z
SUMMARY:Baby Boomers Ms. Judy Massa Estate Sale
DESCRIPTION:Baby Boomers Ms. Judy Massa Estate Sale Baby Boomers Estate Sales 
UID:1776959268
STREET-ADDRESS:See website
POSTAL-CODE:33785
LOCALITY:Indian Rocks Beach
REGION:ABBREV=FL
COUNTRY:ABBREV=US;ABBREV=USA:United States
URL;TYPE=Event Listing:https://estatesales.org/estate-sales/fl/indian-rocks-beach/33785/baby-boomers-ms-judy-massa-2211005
PRIORITY:1
CLASS:PUBLIC
SEQUENCE:0
STATUS:CONFIRMED
TRANSP:OPAQUE
END:VEVENT
END:VCALENDAR
