BEGIN:VCALENDAR
VERSION:2.0
METHOD:PUBLISH
BEGIN:VEVENT
DTSTART:20220804T170000Z
DTEND:20220806T170000Z
LOCATION:Louisville, KY 40204
TRANSP: OPAQUE
SEQUENCE:0
UID:
DTSTAMP:20260424T165451Z
SUMMARY:Cherokee Triangle "Eclectic Boujee" PACKED Pickers Sale- 
DESCRIPTION:Cherokee Triangle "Eclectic Boujee" PACKED Pickers Sale-  Susan & Co. Estate Liquidations 
UID:1777071291
STREET-ADDRESS:See website
POSTAL-CODE:40204
LOCALITY:Louisville
REGION:ABBREV=KY
COUNTRY:ABBREV=US;ABBREV=USA:United States
URL;TYPE=Event Listing:https://estatesales.org/estate-sales/ky/louisville/40204/cherokee-triangle-eclectic-boujee-packed-2077929
PRIORITY:1
CLASS:PUBLIC
SEQUENCE:0
STATUS:CONFIRMED
TRANSP:OPAQUE
END:VEVENT
END:VCALENDAR
